BEGIN:VCALENDAR
VERSION:2.0
PRODID:-//Grimedia//Event Calendar//EN
CALSCALE:GREGORIAN
METHOD:PUBLISH
BEGIN:VEVENT
UID:5c0da928-4a20-4f74-906b-3baca85c5e12@https://gri.media
DTSTAMP:20260423T135603Z
SUMMARY:Filarmonica di Roveredo - Concerto di primavera
DESCRIPTION:La Filarmonica di Roveredo ha in programma per il 3 maggio il Concerto di Primavera presso il Centro Comunale in Riva a Roveredo.
LOCATION: \, Svizzera
URL:https://ilmoesano.ch/eventi/filarmonica-di-roveredo-concerto-di-primavera
DTSTART:20260503T143000Z
DTEND:20260503T153000Z
END:VEVENT
END:VCALENDAR